BEGIN:VCALENDAR
VERSION:2.0
PRODID:-//save-the-date.cl//NONSGML v1.0//EN
BEGIN:VEVENT
UID:14-0@save-the-date.cl
DTSTAMP:20260421T184750Z
DTSTART:20260206T100000Z
DTEND:20260206T100000Z
SUMMARY:Día Internacional de Tolerancia Cero con la Mutilación Genital Femenina
DESCRIPTION:Día Internacional de Tolerancia Cero con la Mutilación Genital Femenina
LOCATION:Chile
END:VEVENT
END:VCALENDAR
