BEGIN:VCALENDAR
VERSION:2.0
PRODID:-//save-the-date.cl//NONSGML v1.0//EN
BEGIN:VEVENT
UID:368-0@save-the-date.cl
DTSTAMP:20260421T203540Z
DTSTART:20260206T100000Z
DTEND:20260206T100000Z
SUMMARY:International Day of Zero Tolerance for Female Genital Mutilation
DESCRIPTION:International Day of Zero Tolerance for Female Genital Mutilation
LOCATION:Chile
END:VEVENT
END:VCALENDAR
