BEGIN:VCALENDAR
VERSION:2.0
PRODID:-//save-the-date.cl//NONSGML v1.0//EN
BEGIN:VEVENT
UID:21-0@save-the-date.cl
DTSTAMP:20260421T184524Z
DTSTART:20261210T100000Z
DTEND:20261210T100000Z
SUMMARY:Día Internacional de los Derechos Humanos
DESCRIPTION:Día Internacional de los Derechos Humanos
LOCATION:Chile
END:VEVENT
END:VCALENDAR
