BEGIN:VCALENDAR
VERSION:2.0
PRODID:-//save-the-date.cl//NONSGML v1.0//EN
BEGIN:VEVENT
UID:23-0@save-the-date.cl
DTSTAMP:20260421T184357Z
DTSTART:20260624T100000Z
DTEND:20260624T100000Z
SUMMARY:We Tripantu (Año Nuevo Mapuche)
DESCRIPTION:We Tripantu (Año Nuevo Mapuche)
LOCATION:Chile
END:VEVENT
END:VCALENDAR
