BEGIN:VCALENDAR
VERSION:2.0
PRODID:-//save-the-date.cl//NONSGML v1.0//EN
BEGIN:VEVENT
UID:24-0@save-the-date.cl
DTSTAMP:20260421T184428Z
DTSTART:20261125T100000Z
DTEND:20261125T100000Z
SUMMARY:Día Internacional para la Eliminación de la Violencia contra la Mujer 
DESCRIPTION:Día Internacional para la Eliminación de la Violencia contra la Mujer 
LOCATION:Chile
END:VEVENT
END:VCALENDAR
