BEGIN:VCALENDAR
VERSION:2.0
PRODID:-//save-the-date.cl//NONSGML v1.0//EN
BEGIN:VEVENT
UID:71-0@save-the-date.cl
DTSTAMP:20260421T184445Z
DTSTART:20261004T100000Z
DTEND:20261004T100000Z
SUMMARY:Día Mundial de la Sonrisa
DESCRIPTION:Día Mundial de la Sonrisa
LOCATION:Chile
END:VEVENT
END:VCALENDAR
