BEGIN:VCALENDAR
VERSION:2.0
PRODID:-//save-the-date.cl//NONSGML v1.0//EN
BEGIN:VEVENT
UID:68-0@save-the-date.cl
DTSTAMP:20260421T184429Z
DTSTART:20260201T100000Z
DTEND:20260228T100000Z
SUMMARY:Mes de la Historia Negra
DESCRIPTION:Mes de la Historia Negra
LOCATION:Chile
END:VEVENT
END:VCALENDAR
