BEGIN:VCALENDAR
VERSION:2.0
PRODID:-//save-the-date.cl//NONSGML v1.0//EN
BEGIN:VEVENT
UID:62-0@save-the-date.cl
DTSTAMP:20260421T184626Z
DTSTART:20260308T100000Z
DTEND:20260308T100000Z
SUMMARY:Día Internacional de la Mujer
DESCRIPTION:Día Internacional de la Mujer
LOCATION:Chile
END:VEVENT
END:VCALENDAR
