BEGIN:VCALENDAR
VERSION:2.0
PRODID:-//save-the-date.cl//NONSGML v1.0//EN
BEGIN:VEVENT
UID:65-1@save-the-date.cl
DTSTAMP:20260421T184625Z
DTSTART:20260331T100000Z
DTEND:20260331T100000Z
SUMMARY:Día de la Visibilidad Trans
DESCRIPTION:Día de la Visibilidad Trans
LOCATION:Chile
END:VEVENT
END:VCALENDAR
