BEGIN:VCALENDAR
VERSION:2.0
PRODID:-//save-the-date.cl//NONSGML v1.0//EN
BEGIN:VEVENT
UID:374-1@save-the-date.cl
DTSTAMP:20260421T202952Z
DTSTART:20260301T100000Z
DTEND:20260331T100000Z
SUMMARY:Women’s History Month
DESCRIPTION:Women’s History Month
LOCATION:Chile
END:VEVENT
END:VCALENDAR
