BEGIN:VCALENDAR
VERSION:2.0
PRODID:-//save-the-date.cl//NONSGML v1.0//EN
BEGIN:VEVENT
UID:68-1@save-the-date.cl
DTSTAMP:20260421T184428Z
DTSTART:20260301T100000Z
DTEND:20260331T100000Z
SUMMARY:Mes de las mujeres
DESCRIPTION:Mes de las mujeres
LOCATION:Chile
END:VEVENT
END:VCALENDAR
