BEGIN:VCALENDAR
VERSION:2.0
PRODID:-//save-the-date.cl//NONSGML v1.0//EN
BEGIN:VEVENT
UID:25-1@save-the-date.cl
DTSTAMP:20260421T184532Z
DTSTART:20260422T100000Z
DTEND:20260422T100000Z
SUMMARY:Día de la Tierra
DESCRIPTION:Día de la Tierra
LOCATION:Chile
END:VEVENT
END:VCALENDAR
