BEGIN:VCALENDAR
VERSION:2.0
PRODID:-//save-the-date.cl//NONSGML v1.0//EN
BEGIN:VEVENT
UID:14-10@save-the-date.cl
DTSTAMP:20260421T184903Z
DTSTART:20260921T100000Z
DTEND:20260921T100000Z
SUMMARY:Día Internacional de la Paz
DESCRIPTION:Día Internacional de la Paz 
LOCATION:Chile
END:VEVENT
END:VCALENDAR
