BEGIN:VCALENDAR
VERSION:2.0
PRODID:-//save-the-date.cl//NONSGML v1.0//EN
BEGIN:VEVENT
UID:14-11@save-the-date.cl
DTSTAMP:20260421T184922Z
DTSTART:20260926T100000Z
DTEND:20260926T100000Z
SUMMARY:Día mundial de Anticoncepción
DESCRIPTION:Día mundial de Anticoncepción
LOCATION:Chile
END:VEVENT
END:VCALENDAR
