BEGIN:VCALENDAR
VERSION:2.0
PRODID:-//save-the-date.cl//NONSGML v1.0//EN
BEGIN:VEVENT
UID:14-12@save-the-date.cl
DTSTAMP:20260421T184924Z
DTSTART:20261011T100000Z
DTEND:20261011T100000Z
SUMMARY:Día Internacional de la Niña
DESCRIPTION:Día Internacional de la Niña
LOCATION:Chile
END:VEVENT
END:VCALENDAR
