BEGIN:VCALENDAR
VERSION:2.0
PRODID:-//save-the-date.cl//NONSGML v1.0//EN
BEGIN:VEVENT
UID:14-14@save-the-date.cl
DTSTAMP:20260421T184903Z
DTSTART:20261201T100000Z
DTEND:20261201T100000Z
SUMMARY:Día Mundial del SIDA
DESCRIPTION:Día Mundial del SIDA
LOCATION:Chile
END:VEVENT
END:VCALENDAR
