BEGIN:VCALENDAR
VERSION:2.0
PRODID:-//save-the-date.cl//NONSGML v1.0//EN
BEGIN:VEVENT
UID:14-2@save-the-date.cl
DTSTAMP:20260421T184700Z
DTSTART:20260321T100000Z
DTEND:20260321T100000Z
SUMMARY:Día Internacional de la Eliminación de la Discriminación Racial
DESCRIPTION:Día Internacional de la Eliminación de la Discriminación Racial
LOCATION:Chile
END:VEVENT
END:VCALENDAR
