BEGIN:VCALENDAR
VERSION:2.0
PRODID:-//save-the-date.cl//NONSGML v1.0//EN
BEGIN:VEVENT
UID:63-2@save-the-date.cl
DTSTAMP:20260421T184701Z
DTSTART:20260601T100000Z
DTEND:20260630T100000Z
SUMMARY:Mes del orgullo
DESCRIPTION:Mes del orgullo
LOCATION:Chile
END:VEVENT
END:VCALENDAR
