BEGIN:VCALENDAR
VERSION:2.0
PRODID:-//save-the-date.cl//NONSGML v1.0//EN
BEGIN:VEVENT
UID:22-2@save-the-date.cl
DTSTAMP:20260421T184446Z
DTSTART:20261120T100000Z
DTEND:20261120T100000Z
SUMMARY:Día de la Memoria Trans
DESCRIPTION:Día de la Memoria Trans
LOCATION:Chile
END:VEVENT
END:VCALENDAR
