BEGIN:VCALENDAR
VERSION:2.0
PRODID:-//save-the-date.cl//NONSGML v1.0//EN
BEGIN:VEVENT
UID:377-2@save-the-date.cl
DTSTAMP:20260421T202947Z
DTSTART:20261120T100000Z
DTEND:20261120T100000Z
SUMMARY:Transgender Day of Remembrance
DESCRIPTION:Transgender Day of Remembrance
LOCATION:Chile
END:VEVENT
END:VCALENDAR
