BEGIN:VCALENDAR
VERSION:2.0
PRODID:-//save-the-date.cl//NONSGML v1.0//EN
BEGIN:VEVENT
UID:386-2@save-the-date.cl
DTSTAMP:20260421T203118Z
DTSTART:20260915T100000Z
DTEND:20261015T100000Z
SUMMARY:Spanish Heritage Month
DESCRIPTION:Spanish Heritage Month
LOCATION:Chile
END:VEVENT
END:VCALENDAR
