BEGIN:VCALENDAR
VERSION:2.0
PRODID:-//save-the-date.cl//NONSGML v1.0//EN
BEGIN:VEVENT
UID:67-2@save-the-date.cl
DTSTAMP:20260421T184611Z
DTSTART:20260915T100000Z
DTEND:20261015T100000Z
SUMMARY:Mes Nacional de la Herencia Hispana
DESCRIPTION:Mes Nacional de la Herencia Hispana
LOCATION:Chile
END:VEVENT
END:VCALENDAR
