BEGIN:VCALENDAR
VERSION:2.0
PRODID:-//save-the-date.cl//NONSGML v1.0//EN
BEGIN:VEVENT
UID:14-3@save-the-date.cl
DTSTAMP:20260421T184732Z
DTSTART:20260407T100000Z
DTEND:20260407T100000Z
SUMMARY:Día Mundial de la Salud
DESCRIPTION:Día Mundial de la Salud
LOCATION:Chile
END:VEVENT
END:VCALENDAR
