BEGIN:VCALENDAR
VERSION:2.0
PRODID:-//save-the-date.cl//NONSGML v1.0//EN
BEGIN:VEVENT
UID:14-4@save-the-date.cl
DTSTAMP:20260421T184856Z
DTSTART:20260517T100000Z
DTEND:20260517T100000Z
SUMMARY:Día Internacional contra la Homofobia, Transfobia y Bifobia
DESCRIPTION:Día Internacional contra la Homofobia, Transfobia y Bifobia
LOCATION:Chile
END:VEVENT
END:VCALENDAR
