BEGIN:VCALENDAR
VERSION:2.0
PRODID:-//save-the-date.cl//NONSGML v1.0//EN
BEGIN:VEVENT
UID:14-5@save-the-date.cl
DTSTAMP:20260421T184858Z
DTSTART:20260528T100000Z
DTEND:20260528T100000Z
SUMMARY:Día Internacional de Acción por la Salud de la Mujer
DESCRIPTION:Día Internacional de Acción por la Salud de la Mujer

LOCATION:Chile
END:VEVENT
END:VCALENDAR
