BEGIN:VCALENDAR
VERSION:2.0
PRODID:-//save-the-date.cl//NONSGML v1.0//EN
BEGIN:VEVENT
UID:14-6@save-the-date.cl
DTSTAMP:20260421T184750Z
DTSTART:20260612T100000Z
DTEND:20260612T100000Z
SUMMARY:Día Mundial contra el Trabajo Infantil
DESCRIPTION:Día Mundial contra el Trabajo Infantil

LOCATION:Chile
END:VEVENT
END:VCALENDAR
