BEGIN:VCALENDAR
VERSION:2.0
PRODID:-//save-the-date.cl//NONSGML v1.0//EN
BEGIN:VEVENT
UID:14-7@save-the-date.cl
DTSTAMP:20260421T184732Z
DTSTART:20260618T100000Z
DTEND:20260618T100000Z
SUMMARY:Día Internacional para Contrarrestar el Discurso de Odio
DESCRIPTION:Día Internacional para Contrarrestar el Discurso de Odio
LOCATION:Chile
END:VEVENT
END:VCALENDAR
