BEGIN:VCALENDAR
VERSION:2.0
PRODID:-//save-the-date.cl//NONSGML v1.0//EN
BEGIN:VEVENT
UID:368-7@save-the-date.cl
DTSTAMP:20260421T203401Z
DTSTART:20260618T100000Z
DTEND:20260618T100000Z
SUMMARY:International Day for Countering Hate Speech
DESCRIPTION:International Day for Countering Hate Speech
LOCATION:Chile
END:VEVENT
END:VCALENDAR
