BEGIN:VCALENDAR
VERSION:2.0
PRODID:-//save-the-date.cl//NONSGML v1.0//EN
BEGIN:VEVENT
UID:14-8@save-the-date.cl
DTSTAMP:20260421T184751Z
DTSTART:20260611T100000Z
DTEND:20260611T100000Z
SUMMARY:Día Mundial de la Población
DESCRIPTION:Día Mundial de la Población
LOCATION:Chile
END:VEVENT
END:VCALENDAR
