BEGIN:VCALENDAR
VERSION:2.0
PRODID:-//save-the-date.cl//NONSGML v1.0//EN
BEGIN:VEVENT
UID:368-8@save-the-date.cl
DTSTAMP:20260421T203441Z
DTSTART:20260711T100000Z
DTEND:20260711T100000Z
SUMMARY:World Population Day
DESCRIPTION:World Population Day
LOCATION:Chile
END:VEVENT
END:VCALENDAR
