BEGIN:VCALENDAR
VERSION:2.0
PRODID:-//save-the-date.cl//NONSGML v1.0//EN
BEGIN:VEVENT
UID:368-9@save-the-date.cl
DTSTAMP:20260421T203431Z
DTSTART:20260812T100000Z
DTEND:20260812T100000Z
SUMMARY:International Youth Day 
DESCRIPTION:International Youth Day 
LOCATION:Chile
END:VEVENT
END:VCALENDAR
