BEGIN:VCALENDAR
VERSION:2.0
PRODID:-//save-the-date.cl//NONSGML v1.0//EN
CALSCALE:GREGORIAN
METHOD:PUBLISH
BEGIN:VEVENT
UID:368-0@save-the-date.cl
DTSTAMP:20260423T084645Z
DTSTART:20260206T100000Z
DTEND:20260206T100000Z
SUMMARY:International Day of Zero Tolerance for Female Genital Mutilation
DESCRIPTION:International Day of Zero Tolerance for Female Genital Mutilation
LOCATION:Chile
END:VEVENT
BEGIN:VEVENT
UID:368-1@save-the-date.cl
DTSTAMP:20260423T084645Z
DTSTART:20260308T100000Z
DTEND:20260308T100000Z
SUMMARY:International Women’s Day
DESCRIPTION:International Women’s Day
LOCATION:Chile
END:VEVENT
BEGIN:VEVENT
UID:368-2@save-the-date.cl
DTSTAMP:20260423T084645Z
DTSTART:20260321T100000Z
DTEND:20260321T100000Z
SUMMARY:International Day for the Elimination of Racial Discrimination
DESCRIPTION:International Day for the Elimination of Racial Discrimination
LOCATION:Chile
END:VEVENT
BEGIN:VEVENT
UID:368-3@save-the-date.cl
DTSTAMP:20260423T084645Z
DTSTART:20260407T100000Z
DTEND:20260407T100000Z
SUMMARY:World Health Day
DESCRIPTION:World Health Day
LOCATION:Chile
END:VEVENT
BEGIN:VEVENT
UID:368-4@save-the-date.cl
DTSTAMP:20260423T084645Z
DTSTART:20260517T100000Z
DTEND:20260517T100000Z
SUMMARY:International Day Against Homophobia, Biphobia and Transphobia
DESCRIPTION:International Day Against Homophobia, Biphobia and Transphobia
LOCATION:Chile
END:VEVENT
BEGIN:VEVENT
UID:368-5@save-the-date.cl
DTSTAMP:20260423T084645Z
DTSTART:20260528T100000Z
DTEND:20260528T100000Z
SUMMARY:International Day of Action for Women\'s Health
DESCRIPTION:International Day of Action for Women\'s Health
LOCATION:Chile
END:VEVENT
BEGIN:VEVENT
UID:368-6@save-the-date.cl
DTSTAMP:20260423T084645Z
DTSTART:20260612T100000Z
DTEND:20260612T100000Z
SUMMARY:World Day Against Child Labour
DESCRIPTION:World Day Against Child Labour
LOCATION:Chile
END:VEVENT
BEGIN:VEVENT
UID:368-7@save-the-date.cl
DTSTAMP:20260423T084645Z
DTSTART:20260618T100000Z
DTEND:20260618T100000Z
SUMMARY:International Day for Countering Hate Speech
DESCRIPTION:International Day for Countering Hate Speech
LOCATION:Chile
END:VEVENT
BEGIN:VEVENT
UID:368-8@save-the-date.cl
DTSTAMP:20260423T084645Z
DTSTART:20260711T100000Z
DTEND:20260711T100000Z
SUMMARY:World Population Day
DESCRIPTION:World Population Day
LOCATION:Chile
END:VEVENT
BEGIN:VEVENT
UID:368-9@save-the-date.cl
DTSTAMP:20260423T084645Z
DTSTART:20260812T100000Z
DTEND:20260812T100000Z
SUMMARY:International Youth Day 
DESCRIPTION:International Youth Day 
LOCATION:Chile
END:VEVENT
BEGIN:VEVENT
UID:368-10@save-the-date.cl
DTSTAMP:20260423T084645Z
DTSTART:20260921T100000Z
DTEND:20260921T100000Z
SUMMARY:International Day of Peace 
DESCRIPTION:International Day of Peace 
LOCATION:Chile
END:VEVENT
BEGIN:VEVENT
UID:368-11@save-the-date.cl
DTSTAMP:20260423T084645Z
DTSTART:20260926T100000Z
DTEND:20260926T100000Z
SUMMARY:World Contraception Day
DESCRIPTION:World Contraception Day
LOCATION:Chile
END:VEVENT
BEGIN:VEVENT
UID:368-12@save-the-date.cl
DTSTAMP:20260423T084645Z
DTSTART:20261011T100000Z
DTEND:20261011T100000Z
SUMMARY:International Day of the Girl Child
DESCRIPTION:International Day of the Girl Child
LOCATION:Chile
END:VEVENT
BEGIN:VEVENT
UID:368-13@save-the-date.cl
DTSTAMP:20260423T084645Z
DTSTART:20261125T100000Z
DTEND:20261125T100000Z
SUMMARY:International Day for the Elimination of Violence Against Women
DESCRIPTION:International Day for the Elimination of Violence Against Women
LOCATION:Chile
END:VEVENT
BEGIN:VEVENT
UID:368-14@save-the-date.cl
DTSTAMP:20260423T084645Z
DTSTART:20261201T100000Z
DTEND:20261201T100000Z
SUMMARY:World AIDS Day
DESCRIPTION:World AIDS Day
LOCATION:Chile
END:VEVENT
END:VCALENDAR
