BEGIN:VCALENDAR
VERSION:2.0
PRODID:-//save-the-date.cl//NONSGML v1.0//EN
CALSCALE:GREGORIAN
METHOD:PUBLISH
BEGIN:VEVENT
UID:380-0@save-the-date.cl
DTSTAMP:20260421T202823Z
DTSTART:20260308T100000Z
DTEND:20260308T100000Z
SUMMARY:International Women’s Day
DESCRIPTION:International Women’s Day
LOCATION:Chile
END:VEVENT
BEGIN:VEVENT
UID:380-1@save-the-date.cl
DTSTAMP:20260421T202823Z
DTSTART:20260422T100000Z
DTEND:20260422T100000Z
SUMMARY:Earth Day
DESCRIPTION:Earth Day
LOCATION:Chile
END:VEVENT
BEGIN:VEVENT
UID:380-2@save-the-date.cl
DTSTAMP:20260421T202823Z
DTSTART:20260605T100000Z
DTEND:20260605T100000Z
SUMMARY:World Environment Day
DESCRIPTION:World Environment Day
LOCATION:Chile
END:VEVENT
BEGIN:VEVENT
UID:380-3@save-the-date.cl
DTSTAMP:20260421T202823Z
DTSTART:20261210T100000Z
DTEND:20261210T100000Z
SUMMARY:International Human Rights Day
DESCRIPTION:International Human Rights Day
LOCATION:Chile
END:VEVENT
END:VCALENDAR
