BEGIN:VCALENDAR
VERSION:2.0
PRODID:-//save-the-date.cl//NONSGML v1.0//EN
CALSCALE:GREGORIAN
METHOD:PUBLISH
BEGIN:VEVENT
UID:398-0@save-the-date.cl
DTSTAMP:20260423T084624Z
DTSTART:20260331T100000Z
DTEND:20260331T100000Z
SUMMARY:Transgender Day of Visibility
DESCRIPTION:Transgender Day of Visibility
LOCATION:Chile
END:VEVENT
BEGIN:VEVENT
UID:398-1@save-the-date.cl
DTSTAMP:20260423T084624Z
DTSTART:20260517T100000Z
DTEND:20260517T100000Z
SUMMARY:International Day Against Homophobia, Biphobia and Transphobia
DESCRIPTION:International Day Against Homophobia, Biphobia and Transphobia
LOCATION:Chile
END:VEVENT
BEGIN:VEVENT
UID:398-2@save-the-date.cl
DTSTAMP:20260423T084624Z
DTSTART:20260601T100000Z
DTEND:20260630T100000Z
SUMMARY:Pride Month
DESCRIPTION:Pride Month
LOCATION:Chile
END:VEVENT
END:VCALENDAR
